BEGIN:VCALENDAR
VERSION:2.0
PRODID:-//Tukios.com/
BEGIN:VEVENT
UID:7f8b0bdd-0a47-4ba0-884d-7ad07bd81a67@www.hardyandsonfuneralhomes.com
DTSTAMP:20260421T013337Z
DTSTART:20260423
SUMMARY:Burial
DESCRIPTION:
URL:https://www.hardyandsonfuneralhomes.com/obituaries/nina-lawrence
LOCATION: 12050 Old Bowling Green Rd  Smiths Grove KY 42171
GEO:36.9830494;-86.1164517
END:VEVENT
END:VCALENDAR