BEGIN:VCALENDAR
VERSION:2.0
PRODID:-//Tukios.com/
BEGIN:VEVENT
UID:32488bdc-b0c8-4c58-a3b5-bd31beeafe78@www.hardyandsonfuneralhomes.com
DTSTAMP:20260421T013110Z
DTSTART:20260423T160000Z
DTEND:20260423T170000Z
SUMMARY:Funeral Service
DESCRIPTION:
URL:https://www.hardyandsonfuneralhomes.com/obituaries/nina-lawrence
LOCATION: 3098 Louisville Rd.  Bowling Green KY 42101
GEO:37.0098755;-86.3964782
END:VEVENT
END:VCALENDAR