BEGIN:VCALENDAR
VERSION:2.0
PRODID:-//Tukios.com/
BEGIN:VEVENT
UID:272f7853-6ed8-469b-83d3-921871927461@www.hardyandsonfuneralhomes.com
DTSTAMP:20260421T013924Z
DTSTART:20260423T140000Z
DTEND:20260423T160000Z
SUMMARY:Visitation
DESCRIPTION:
URL:https://www.hardyandsonfuneralhomes.com/obituaries/nina-lawrence
LOCATION: 3098 Louisville Rd.  Bowling Green KY 42101
GEO:37.0098755;-86.3964782
END:VEVENT
END:VCALENDAR