BEGIN:VCALENDAR
VERSION:2.0
PRODID:-//Tukios.com/
BEGIN:VEVENT
UID:a5055e7e-14c1-4afd-9211-f06d89bc53e0@www.hardyandsonfuneralhomes.com
DTSTAMP:20260421T013937Z
DTSTART:20260422T200000Z
DTEND:20260423T000000Z
SUMMARY:Visitation
DESCRIPTION:
URL:https://www.hardyandsonfuneralhomes.com/obituaries/nina-lawrence
LOCATION: 3098 Louisville Rd.  Bowling Green KY 42101
GEO:37.0098755;-86.3964782
END:VEVENT
END:VCALENDAR