BEGIN:VCALENDAR
VERSION:2.0
PRODID:-//Tukios.com/
BEGIN:VEVENT
UID:cb7fa1b5-5f5f-4e9f-8ccc-403b0acb2c67@www.hardyandsonfuneralhomes.com
DTSTAMP:20260425T205448Z
DTSTART:20260509T170000Z
DTEND:20260509T180000Z
SUMMARY:Celebration of Life
DESCRIPTION:
URL:https://www.hardyandsonfuneralhomes.com/obituaries/leslie-williams
LOCATION: 3098 Louisville Rd.  Bowling Green KY 42101
GEO:37.0098755;-86.3964782
END:VEVENT
END:VCALENDAR