BEGIN:VCALENDAR
VERSION:2.0
PRODID:-//Tukios.com/
BEGIN:VEVENT
UID:e941a4cb-9935-44ca-b51e-d0c38561a974@www.hardyandsonfuneralhomes.com
DTSTAMP:20260425T205319Z
DTSTART:20260509T150000Z
DTEND:20260509T170000Z
SUMMARY:Visitation
DESCRIPTION:
URL:https://www.hardyandsonfuneralhomes.com/obituaries/leslie-williams
LOCATION: 3098 Louisville Rd.  Bowling Green KY 42101
GEO:37.0098755;-86.3964782
END:VEVENT
END:VCALENDAR